BEGIN:VCALENDAR
VERSION:2.0
PRODID:-//Sabre//Sabre VObject 4.5.8//EN
CALSCALE:GREGORIAN
BEGIN:VEVENT
UID:sabre-vobject-c20722b8-0593-4afb-aec9-c15514f51f9c
DTSTAMP:20260423T232043Z
SUMMARY:Biofach 2026
DESCRIPTION:Nürnberg\n10.-13. Februar 2026
LOCATION:Nürnberg
DTSTART:20260210T120000Z
DTEND:20260213T120000Z
END:VEVENT
END:VCALENDAR
