BEGIN:VCALENDAR
VERSION:2.0
PRODID:-//Sabre//Sabre VObject 4.5.8//EN
CALSCALE:GREGORIAN
BEGIN:VEVENT
UID:sabre-vobject-3661bcd4-fe8e-4ad9-992e-95e34747e859
DTSTAMP:20260423T231749Z
SUMMARY:Paris Packaging Week 2026
DESCRIPTION:Paris\n05.-06. Februar 2026
LOCATION:Paris
DTSTART:20260205T120000Z
DTEND:20260206T120000Z
END:VEVENT
END:VCALENDAR
