BEGIN:VCALENDAR
VERSION:2.0
PRODID:-//Sabre//Sabre VObject 4.5.8//EN
CALSCALE:GREGORIAN
BEGIN:VEVENT
UID:sabre-vobject-ddfb1c7d-1710-4965-a2a7-81afeb6639dd
DTSTAMP:20260423T232104Z
SUMMARY:PLMA Amsterdam 2026
DESCRIPTION:Amsterdam\n19.-20. Mai 2026
LOCATION:Amsterdam
DTSTART:20260519T120000Z
DTEND:20260520T120000Z
END:VEVENT
END:VCALENDAR
